BEGIN:VCALENDAR
VERSION:2.0
PRODID:icalendar-ruby
CALSCALE:GREGORIAN
METHOD:PUBLISH
BEGIN:VEVENT
DTSTAMP:20260422T102904Z
UID:5-1163276@joinshiloh.church
DTSTART:20261101T160000Z
DTEND:20261101T170000Z
CLASS:PUBLIC
CREATED:20260421T210350
DESCRIPTION:Sunday Worship
LAST-MODIFIED:20260421T210350
LOCATION:
SUMMARY:Sunday Worship
URL;VALUE=URI:https://www.joinshiloh.church/events/sunday-worship/2026-11-0
 1
END:VEVENT
END:VCALENDAR
