BEGIN:VCALENDAR
VERSION:2.0
PRODID:icalendar-ruby
CALSCALE:GREGORIAN
METHOD:PUBLISH
BEGIN:VEVENT
DTSTAMP:20260422T090506Z
UID:5-1163275@joinshiloh.church
DTSTART:20261025T150000Z
DTEND:20261025T160000Z
CLASS:PUBLIC
CREATED:20260421T210350
DESCRIPTION:Sunday Worship
LAST-MODIFIED:20260421T210350
LOCATION:
SUMMARY:Sunday Worship
URL;VALUE=URI:https://www.joinshiloh.church/events/sunday-worship/2026-10-2
 5
END:VEVENT
END:VCALENDAR
