BEGIN:VCALENDAR
VERSION:2.0
PRODID:icalendar-ruby
CALSCALE:GREGORIAN
METHOD:PUBLISH
BEGIN:VEVENT
DTSTAMP:20260420T072714Z
UID:5-1158726@joinshiloh.church
DTSTART:20261018T150000Z
DTEND:20261018T160000Z
CLASS:PUBLIC
CREATED:20260420T030705
DESCRIPTION:Sunday Worship
LAST-MODIFIED:20260420T030705
LOCATION:
SUMMARY:Sunday Worship
URL;VALUE=URI:https://www.joinshiloh.church/events/sunday-worship/2026-10-1
 8
END:VEVENT
END:VCALENDAR
