BEGIN:VCALENDAR
VERSION:2.0
PRODID:icalendar-ruby
CALSCALE:GREGORIAN
METHOD:PUBLISH
BEGIN:VEVENT
DTSTAMP:20260420T045728Z
UID:5-1158345@joinshiloh.church
DTSTART:20261004T150000Z
DTEND:20261004T160000Z
CLASS:PUBLIC
CREATED:20260419T232956
DESCRIPTION:Sunday Worship
LAST-MODIFIED:20260419T232956
LOCATION:
SUMMARY:Sunday Worship
URL;VALUE=URI:https://www.joinshiloh.church/events/sunday-worship/2026-10-0
 4
END:VEVENT
END:VCALENDAR
