BEGIN:VCALENDAR
VERSION:2.0
PRODID:icalendar-ruby
CALSCALE:GREGORIAN
METHOD:PUBLISH
BEGIN:VEVENT
DTSTAMP:20260420T022617Z
UID:5-1157964@joinshiloh.church
DTSTART:20260920T150000Z
DTEND:20260920T160000Z
CLASS:PUBLIC
CREATED:20260419T195202
DESCRIPTION:Sunday Worship
LAST-MODIFIED:20260419T195202
LOCATION:
SUMMARY:Sunday Worship
URL;VALUE=URI:https://www.joinshiloh.church/events/sunday-worship/2026-09-2
 0
END:VEVENT
END:VCALENDAR
